
BEGIN:VCALENDAR
VERSION:2.0
PRODID:-//Wharf Chambers - ECPv6.15.18//NONSGML v1.0//EN
CALSCALE:GREGORIAN
METHOD:PUBLISH
X-WR-CALNAME:Wharf Chambers
X-ORIGINAL-URL:https://wharfchambers.org
X-WR-CALDESC:Events for Wharf Chambers
REFRESH-INTERVAL;VALUE=DURATION:PT1H
X-Robots-Tag:noindex
X-PUBLISHED-TTL:PT1H
BEGIN:VTIMEZONE
TZID:Europe/London
BEGIN:DAYLIGHT
TZOFFSETFROM:+0000
TZOFFSETTO:+0100
TZNAME:BST
DTSTART:20250330T010000
END:DAYLIGHT
BEGIN:STANDARD
TZOFFSETFROM:+0100
TZOFFSETTO:+0000
TZNAME:GMT
DTSTART:20251026T010000
END:STANDARD
BEGIN:DAYLIGHT
TZOFFSETFROM:+0000
TZOFFSETTO:+0100
TZNAME:BST
DTSTART:20260329T010000
END:DAYLIGHT
BEGIN:STANDARD
TZOFFSETFROM:+0100
TZOFFSETTO:+0000
TZNAME:GMT
DTSTART:20261025T010000
END:STANDARD
BEGIN:DAYLIGHT
TZOFFSETFROM:+0000
TZOFFSETTO:+0100
TZNAME:BST
DTSTART:20270328T010000
END:DAYLIGHT
BEGIN:STANDARD
TZOFFSETFROM:+0100
TZOFFSETTO:+0000
TZNAME:GMT
DTSTART:20271031T010000
END:STANDARD
END:VTIMEZONE
BEGIN:VEVENT
DTSTART;TZID=Europe/London:20260426T150000
DTEND;TZID=Europe/London:20260426T163000
DTSTAMP:20260426T010818
CREATED:20260108T170749Z
LAST-MODIFIED:20260108T170826Z
UID:15592-1777215600-1777221000@wharfchambers.org
SUMMARY:Pigeon Drop-in session
DESCRIPTION:If you are a trans or nonbinary person self-medicating hormones\, come along to one of our friendly sessions led by your peers. We offer harm-reduction information\, free injecting equipment\, and a non-judgemental space to chat to other trans people.\nInstagram: Pigeon_Leeds\nBluesky: @pigeon-leeds.bsky.social\nMastadon: @Pigeon_Leeds
URL:https://wharfchambers.org/event/pigeon-drop-in-session-5/
ATTACH;FMTTYPE=image/jpeg:https://wharfchambers.org/wp-content/uploads/2026/01/unnamed-1.jpg
END:VEVENT
BEGIN:VEVENT
DTSTART;TZID=Europe/London:20260426T190000
DTEND;TZID=Europe/London:20260426T230000
DTSTAMP:20260426T010818
CREATED:20260413T195653Z
LAST-MODIFIED:20260424T114512Z
UID:15964-1777230000-1777244400@wharfchambers.org
SUMMARY:Live Wire
DESCRIPTION:MORE INFO HERE \n>>>> TICKETS <<<<
URL:https://wharfchambers.org/event/live-wire/
ATTACH;FMTTYPE=image/png:https://wharfchambers.org/wp-content/uploads/2026/04/image0.png
END:VEVENT
END:VCALENDAR