
BEGIN:VCALENDAR
VERSION:2.0
PRODID:-//Wharf Chambers - ECPv6.15.18//NONSGML v1.0//EN
CALSCALE:GREGORIAN
METHOD:PUBLISH
X-WR-CALNAME:Wharf Chambers
X-ORIGINAL-URL:https://wharfchambers.org
X-WR-CALDESC:Events for Wharf Chambers
REFRESH-INTERVAL;VALUE=DURATION:PT1H
X-Robots-Tag:noindex
X-PUBLISHED-TTL:PT1H
BEGIN:VTIMEZONE
TZID:Europe/London
BEGIN:DAYLIGHT
TZOFFSETFROM:+0000
TZOFFSETTO:+0100
TZNAME:BST
DTSTART:20250330T010000
END:DAYLIGHT
BEGIN:STANDARD
TZOFFSETFROM:+0100
TZOFFSETTO:+0000
TZNAME:GMT
DTSTART:20251026T010000
END:STANDARD
BEGIN:DAYLIGHT
TZOFFSETFROM:+0000
TZOFFSETTO:+0100
TZNAME:BST
DTSTART:20260329T010000
END:DAYLIGHT
BEGIN:STANDARD
TZOFFSETFROM:+0100
TZOFFSETTO:+0000
TZNAME:GMT
DTSTART:20261025T010000
END:STANDARD
BEGIN:DAYLIGHT
TZOFFSETFROM:+0000
TZOFFSETTO:+0100
TZNAME:BST
DTSTART:20270328T010000
END:DAYLIGHT
BEGIN:STANDARD
TZOFFSETFROM:+0100
TZOFFSETTO:+0000
TZNAME:GMT
DTSTART:20271031T010000
END:STANDARD
END:VTIMEZONE
BEGIN:VEVENT
DTSTART;TZID=Europe/London:20260425T193000
DTEND;TZID=Europe/London:20260425T230000
DTSTAMP:20260425T012720
CREATED:20260302T123113Z
LAST-MODIFIED:20260302T123113Z
UID:15903-1777145400-1777158000@wharfchambers.org
SUMMARY:Shooting Tzars Expo #004: Crying Loser\, Richard Carlson Band\, Oliver! by Oliver
DESCRIPTION:Shooting Tzars Promotions present a Shooting Tzars event via Shooting Tzars Presents; the promotional wing of Shooting Tzars Records: \nShooting Tzars Exposition Extraordinaire #004: Crying Loser – We host Cork avant-garde noise rockers Crying Loser\, touring their debut album ‘The Ick’ . Featuring live musical performances from a premium selection of artists\, we welcome Richard Carlson Band (Sheffield) and Oliver! by Oliver (Sheffield) . \nRichard Carlson Band: “Richard Carlson Band: Drawing inspiration from unlikely icons including Frank Zappa\, Captain Beefheart and classic showmanship\, their sound is bold\, irreverent and impossible to pin down. Expect a performance that’s lively\, chaotic\, and full of character: strange\, entertaining\, and offering a fresh perspective on what a live band can be.” \nOliver! by Oliver: ‘Oliver! by Oliver.’ is the synthetic reimagining of the woes and joys attributed to the historical boy we know as Oliver Twist\, set to a backdrop of electronica and drum machines.Expect romance and passion\, villains and crime\, synthesizer and linn drum. \nTickets: https://www.ticketsource.co.uk/shooting-tzars-presents/t-xdddngo \n 
URL:https://wharfchambers.org/event/shooting-tzars-expo-004-crying-loser-richard-carlson-band-oliver-by-oliver/
ATTACH;FMTTYPE=image/png:https://wharfchambers.org/wp-content/uploads/2026/03/CRYINGLOSERINSTAG-PRINT-scaled.png
END:VEVENT
END:VCALENDAR