
BEGIN:VCALENDAR
VERSION:2.0
PRODID:-//Wharf Chambers - ECPv6.15.18//NONSGML v1.0//EN
CALSCALE:GREGORIAN
METHOD:PUBLISH
X-WR-CALNAME:Wharf Chambers
X-ORIGINAL-URL:https://wharfchambers.org
X-WR-CALDESC:Events for Wharf Chambers
REFRESH-INTERVAL;VALUE=DURATION:PT1H
X-Robots-Tag:noindex
X-PUBLISHED-TTL:PT1H
BEGIN:VTIMEZONE
TZID:Europe/London
BEGIN:DAYLIGHT
TZOFFSETFROM:+0000
TZOFFSETTO:+0100
TZNAME:BST
DTSTART:20250330T010000
END:DAYLIGHT
BEGIN:STANDARD
TZOFFSETFROM:+0100
TZOFFSETTO:+0000
TZNAME:GMT
DTSTART:20251026T010000
END:STANDARD
BEGIN:DAYLIGHT
TZOFFSETFROM:+0000
TZOFFSETTO:+0100
TZNAME:BST
DTSTART:20260329T010000
END:DAYLIGHT
BEGIN:STANDARD
TZOFFSETFROM:+0100
TZOFFSETTO:+0000
TZNAME:GMT
DTSTART:20261025T010000
END:STANDARD
BEGIN:DAYLIGHT
TZOFFSETFROM:+0000
TZOFFSETTO:+0100
TZNAME:BST
DTSTART:20270328T010000
END:DAYLIGHT
BEGIN:STANDARD
TZOFFSETFROM:+0100
TZOFFSETTO:+0000
TZNAME:GMT
DTSTART:20271031T010000
END:STANDARD
END:VTIMEZONE
BEGIN:VEVENT
DTSTART;TZID=Europe/London:20260424T200000
DTEND;TZID=Europe/London:20260425T040000
DTSTAMP:20260424T224900
CREATED:20251122T132028Z
LAST-MODIFIED:20260226T121258Z
UID:15503-1777060800-1777089600@wharfchambers.org
SUMMARY:2FUNKiE House Party
DESCRIPTION:We’re back – 2FUNKiE House Party! It’s our resident hosts Birthday bash\, and what better way to do it than with our people. Let’s move\, let’s groove! The trusty 2FUNKiE vibe with free love and funky beats\, this time – paying homage to the rich history of House Music. \nHosted by our very own @kingunkownamazon We’re serving up a psychedelic blend of funk\, soul\, old school house\, hip house\, Chicago house\, nu disco\, afro house\, funky house\, jazz\, global\, hip hop\, disco\, and more – all the sounds that make you feel groovy baby \nAt 2FUNKiE our motivation has been and will continue to be prioritising QPOC artists and voices\, whilst raising money for grassroots causes providing aid in Palestine\, the DRC and Sudan. \nSet list: \nx3 DJ’s and x3 Performers to be announced \nPlus a stall held by the wonderful artist\, Abigaia & more artists TBA \nDress code: Think 80’s / 90’s house party playing funky house music. Bright colours & Whatever you’re most comfortable in. \nIf you’re strapped for ideas\, check out our upcoming mood boards. 🙂 \nWe encourage people of all backgrounds to our events\, whilst maintaining we are a QPOC priority space. Please be mindful of the type of tickets you choose to purchase 🙂 All people are welcome; Identities will not be policed! \nWharf Chambers is a members’ club\, and you need to be a member\, or guest of a member\, in order to attend. To join\, please visit their website. Membership costs £2 and requires a minimum of 48 hours to take effect. \nSo get ready to shake that groove thing\, as always\, It’s gonna be crazy sexy cool! \nTickets: https://www.citizenticket.com/events/2funkie/2funkie-house-party/ \nSocials: https://2funkie.sumupstore.com/
URL:https://wharfchambers.org/event/2funkie-house-party/
ATTACH;FMTTYPE=image/png:https://wharfchambers.org/wp-content/uploads/2025/11/Citizen_Ticket_Version-2.png
END:VEVENT
END:VCALENDAR