
BEGIN:VCALENDAR
VERSION:2.0
PRODID:-//Wharf Chambers - ECPv6.15.18//NONSGML v1.0//EN
CALSCALE:GREGORIAN
METHOD:PUBLISH
X-WR-CALNAME:Wharf Chambers
X-ORIGINAL-URL:https://wharfchambers.org
X-WR-CALDESC:Events for Wharf Chambers
REFRESH-INTERVAL;VALUE=DURATION:PT1H
X-Robots-Tag:noindex
X-PUBLISHED-TTL:PT1H
BEGIN:VTIMEZONE
TZID:Europe/London
BEGIN:DAYLIGHT
TZOFFSETFROM:+0000
TZOFFSETTO:+0100
TZNAME:BST
DTSTART:20250330T010000
END:DAYLIGHT
BEGIN:STANDARD
TZOFFSETFROM:+0100
TZOFFSETTO:+0000
TZNAME:GMT
DTSTART:20251026T010000
END:STANDARD
BEGIN:DAYLIGHT
TZOFFSETFROM:+0000
TZOFFSETTO:+0100
TZNAME:BST
DTSTART:20260329T010000
END:DAYLIGHT
BEGIN:STANDARD
TZOFFSETFROM:+0100
TZOFFSETTO:+0000
TZNAME:GMT
DTSTART:20261025T010000
END:STANDARD
BEGIN:DAYLIGHT
TZOFFSETFROM:+0000
TZOFFSETTO:+0100
TZNAME:BST
DTSTART:20270328T010000
END:DAYLIGHT
BEGIN:STANDARD
TZOFFSETFROM:+0100
TZOFFSETTO:+0000
TZNAME:GMT
DTSTART:20271031T010000
END:STANDARD
END:VTIMEZONE
BEGIN:VEVENT
DTSTART;TZID=Europe/London:20260422T200000
DTEND;TZID=Europe/London:20260422T230000
DTSTAMP:20260422T111136
CREATED:20260318T122937Z
LAST-MODIFIED:20260323T174746Z
UID:15968-1776888000-1776898800@wharfchambers.org
SUMMARY:A.R.S.D.I.Y and Cops and Robbers Present
DESCRIPTION:Hexakaidecagon –\nRumours about Hexakaidecagon have been seeping out of unexpected places. They are the Ruby Slippers\, the Grand Ole Opry and The House on the Rock. Hexakaidecagon is an upside-down power couple\, they are a whirlwind survey of knocking in the night and rushing tides. A typical concert performance could include an array of percussion sourced from a dump\, glossolalic jibber-jabber\, a radio telescope\, long lists spoken with big voices\, and FaceTime calls to Mom & Dad. Hexakaidecagon is a duo that shares band members with Benicio del Trainwreck\, Asparagus Piss Raindrop\, Dome Riders\, Peeesseye\, etc. They are absolutely thrilled to welcome situations in which possibilities overpower intentions.\n\nGuttersnipe –\nLeeds’ premier and pre-eminent XFCER (XFCER: Xenofeminist crisis-energy rock)* duo. Slamming at full speed to multi-dimensional oblivion in a hi-definition lurid dream-mare spewed out by Uroceras Gigas & Tipula Confusa.\n\nDebutantes –\nCharismatic and multi-talented members of Bella Spit interlaced with Fritz Welch in a happening to behold.\n\nTickets on door £10 waged + sliding scale
URL:https://wharfchambers.org/event/a-r-s-d-i-y-and-cops-and-robbers-present/
ATTACH;FMTTYPE=image/png:https://wharfchambers.org/wp-content/uploads/2026/03/hexakaigutterdebsWHARF_smaller-for-web1.png
END:VEVENT
END:VCALENDAR